BEGIN:VCALENDAR
VERSION:2.0
PRODID:-//Academy of Play - ECPv6.1.3//NONSGML v1.0//EN
CALSCALE:GREGORIAN
METHOD:PUBLISH
X-ORIGINAL-URL:https://aofplay.com
X-WR-CALDESC:Events for Academy of Play
REFRESH-INTERVAL;VALUE=DURATION:PT1H
X-Robots-Tag:noindex
X-PUBLISHED-TTL:PT1H
BEGIN:VTIMEZONE
TZID:UTC
BEGIN:STANDARD
TZOFFSETFROM:+0000
TZOFFSETTO:+0000
TZNAME:UTC
DTSTART:20220101T000000
END:STANDARD
END:VTIMEZONE
BEGIN:VEVENT
DTSTART;TZID=UTC:20221108T080000
DTEND;TZID=UTC:20221108T100000
DTSTAMP:20260421T191541
CREATED:20220718T201543Z
LAST-MODIFIED:20220718T201543Z
UID:123642-1667894400-1667901600@aofplay.com
SUMMARY:Picture Day
DESCRIPTION:
URL:https://aofplay.com/event/picture-day-2/
CATEGORIES:La Mesa
END:VEVENT
END:VCALENDAR